BEGIN:VCALENDAR
VERSION:2.0
PRODID:-//ChamberMaster//Event Calendar 2.0//EN
METHOD:PUBLISH
X-PUBLISHED-TTL:P3D
REFRESH-INTERVAL:P3D
CALSCALE:GREGORIAN
BEGIN:VEVENT
DTSTART:20210608T230000Z
DTEND:20210609T003000Z
X-MICROSOFT-CDO-ALLDAYEVENT:FALSE
SUMMARY:Voices from the Ape House
DESCRIPTION:Beth Armstrong's memoir about her years at the Columbus Zoo as a gorilla keeper is about more than her interesting career path. It also documents a revolutionary time in zoological history when attitudes were changing about captive animal care\, especially in gorilla husbandry. She began her career at a time when gorilla caretakers had not yet learned the importance of creating natural habitats and providing enrichment for their animals. Beth spent much of her professional life caring for and observing gorillas first as a keeper and then as head keeper at the Columbus Zoo\, 1982 1996. During that time\, she became a passionate proponent and voice for gorillas in the wild and many other species as the first Field Conservation Coordinator at the Columbus Zoo and then the Brevard Zoo. She continues to promote the role of zoos in supporting fieldwork that actively protects great ape species in the wild   through her work with the ZACC (Zoos & Aquariums: Committing to Conservation) conference. You can learn more about Beth at her website www.betharmstrongauthor.com Register to receive a Zoom link for the program about an hour before it begins. GranvilleLibrary.org/calendar/month
X-ALT-DESC;FMTTYPE=text/html:Beth Armstrong&rsquo\;s memoir about her years at the Columbus Zoo as a gorilla keeper is about more than her interesting career path. It also documents a revolutionary time in zoological history when attitudes were changing about captive animal care\, especially in gorilla husbandry. She began her career at a time when gorilla caretakers had not yet learned the importance of creating natural habitats and providing enrichment for their animals. Beth spent much of her professional life caring for and observing gorillas&mdash\;first as a keeper and then as head keeper at the Columbus Zoo\, 1982&ndash\;1996. During that time\, she became a passionate proponent and voice for gorillas in the wild&mdash\;and many other species&mdash\;as the first Field Conservation Coordinator at the Columbus Zoo and then the Brevard Zoo. She continues to promote the role of zoos in supporting fieldwork that actively protects great ape species in the wild &ndash\; through her work with the ZACC (Zoos &amp\; Aquariums: Committing to Conservation) conference. You can learn more about Beth at her website www.betharmstrongauthor.com Register to receive a Zoom link for the program about an hour before it begins. GranvilleLibrary.org/calendar/month
LOCATION:Granville Public Library via Zoom
UID:e.180.14793
SEQUENCE:3
DTSTAMP:20260421T175846Z
URL:https://business.granvilleoh.com/events/details/voices-from-the-ape-house-14793
END:VEVENT

END:VCALENDAR
