BEGIN:VCALENDAR
VERSION:2.0
PRODID:-//ChamberMaster//Event Calendar 2.0//EN
METHOD:PUBLISH
X-PUBLISHED-TTL:P3D
REFRESH-INTERVAL:P3D
CALSCALE:GREGORIAN
BEGIN:VEVENT
DTSTART:20200308T003000Z
DTEND:20200308T020000Z
X-MICROSOFT-CDO-ALLDAYEVENT:FALSE
SUMMARY:‘Voices: Hip-Hop as a Social Practice’
DESCRIPTION:Denison University senior Vaval Victor presents a research project "Voices: Hip-Hop as a Social Practice."\n\n\n\nThe student choreographed piece explores Hip-Hop as a source of liberation\, expression\, and autonomy for black bodies in society today.\nVictor majors in Dance and Anthropology/Sociology.
X-ALT-DESC;FMTTYPE=text/html:<span style="background-color:transparent\; color:rgb(0\, 0\, 0)\; font-family:arial\; font-size:11pt">Denison University senior Vaval Victor presents a research project &ldquo\;Voices: Hip-Hop as a Social Practice.&rdquo\;</span><br />\n<br />\n<span style="background-color:transparent\; color:rgb(0\, 0\, 0)\; font-family:arial\; font-size:11pt">The student choreographed piece explores Hip-Hop as a source of liberation\, expression\, and autonomy for black bodies in society today.</span>\n<p><span style="background-color:transparent\; color:rgb(0\, 0\, 0)\; font-family:arial\; font-size:11pt">Victor majors in Dance and Anthropology/Sociology.</span></p>\n\n<div>&nbsp\;</div>\n
LOCATION:Denison University Doane Dance Studio 204 231 West College
UID:e.180.14343
SEQUENCE:3
DTSTAMP:20260422T142943Z
URL:https://business.granvilleoh.com/events/details/voices-hip-hop-as-a-social-practice-03-07-2020-14343
END:VEVENT

END:VCALENDAR
