BEGIN:VCALENDAR
VERSION:2.0
PRODID:-//ChamberMaster//Event Calendar 2.0//EN
METHOD:PUBLISH
X-PUBLISHED-TTL:P3D
REFRESH-INTERVAL:P3D
CALSCALE:GREGORIAN
BEGIN:VEVENT
DTSTART:20200617T170000Z
DTEND:20200617T180000Z
X-MICROSOFT-CDO-ALLDAYEVENT:FALSE
SUMMARY:Was that Bigfoot or an Alien? A Drawing Adventure
DESCRIPTION:Rising Grades 4 to 6 A spaceship has crash-landed on earth! Can Bigfoot or his friends help our alien friends get home? We need YOUR help to bring this story to life! Bring your pens and paper and learn how to draw lots of mythical crazy creatures (as well as some real ones) while creating an adventure story on the spot. Register at GranvilleLibrary.org/calendar/month to reserve your spot!
X-ALT-DESC;FMTTYPE=text/html:Rising Grades 4 to 6 A spaceship has crash-landed on earth! Can Bigfoot or his friends help our alien friends get home? We need YOUR help to bring this story to life! Bring your pens and paper and learn how to draw lots of mythical crazy creatures (as well as some real ones) while creating an adventure story on the spot. Register at GranvilleLibrary.org/calendar/month to reserve your spot!
LOCATION:Granville Public Library via Zoom
UID:e.180.14528
SEQUENCE:3
DTSTAMP:20260422T114312Z
URL:https://business.granvilleoh.com/events/details/was-that-bigfoot-or-an-alien-a-drawing-adventure-14528
END:VEVENT

END:VCALENDAR
