BEGIN:VCALENDAR
VERSION:2.0
PRODID:-//ChamberMaster//Event Calendar 2.0//EN
METHOD:PUBLISH
X-PUBLISHED-TTL:P3D
REFRESH-INTERVAL:P3D
CALSCALE:GREGORIAN
BEGIN:VEVENT
DTSTART:20200216T000000Z
DTEND:20200216T013000Z
X-MICROSOFT-CDO-ALLDAYEVENT:FALSE
SUMMARY:"We are Women: An Evening of Operatic Girl Power"
DESCRIPTION:The Department of Music presents "We are Women: An Evening of Operatic Girl Power." Please join mezzo-soprano Carolyn Redman\, soprano Jennifer Whitehead\, pianist Sarah Ramsey\, and emcee Christopher Purdy of Classical 101 WOSU FM\, as they present an entertaining variety of duet scenes featuring the music of Bernstein\, Gluck\, Handel\, Humperdinck\, Mozart\, and Offenbach.
X-ALT-DESC;FMTTYPE=text/html:<span style="background-color:transparent\; color:rgb(0\, 0\, 0)\; font-family:arial\; font-size:11pt">The Department of Music presents "We are Women: An Evening of Operatic Girl Power." Please join mezzo-soprano Carolyn Redman\, soprano Jennifer Whitehead\, pianist Sarah Ramsey\, and emcee Christopher Purdy of Classical 101 WOSU FM\, as they present an entertaining variety of duet scenes featuring the music of Bernstein\, Gluck\, Handel\, Humperdinck\, Mozart\, and Offenbach.</span>\n<div>&nbsp\;</div>\n
LOCATION:Denison University Burke Recital Hall of the Michael D. Eisner Center for the Performing Arts 240 West Broadway
UID:e.180.14255
SEQUENCE:3
DTSTAMP:20260422T171535Z
URL:https://business.granvilleoh.com/events/details/we-are-women-an-evening-of-operatic-girl-power-14255
END:VEVENT

END:VCALENDAR
