BEGIN:VCALENDAR
VERSION:2.0
PRODID:-//ChamberMaster//Event Calendar 2.0//EN
METHOD:PUBLISH
X-PUBLISHED-TTL:P3D
REFRESH-INTERVAL:P3D
CALSCALE:GREGORIAN
BEGIN:VEVENT
DTSTART:20201008T233000Z
DTEND:20201009T003000Z
X-MICROSOFT-CDO-ALLDAYEVENT:FALSE
SUMMARY:‘Welcome Beck’ Thursdays presents Connie Schultz and Torie Clarke
DESCRIPTION:Denison University's Beck Series and Narrative Journalism present "Welcome Beck" Thursdays with Connie Schultz and Torie Clarke in conversation. Register to receive the Zoom link for our "Welcome Beck" Thursdays events\, the virtual reading series of Denison University\, highlighting the best in fiction\, poetry\, journalism\, and scholarship at bit.ly/beck-events.   \n\n\n\nSchultz is a Pulitzer Prize-winning writer and professional-in-residence in the journalism school at Kent State University. She is the author of two memoirs\, "Life Happens" and " And His Lovely Wife\," as well as a novel\, "The Daughters of Erietown." Schultz lives in Cleveland with her husband\, Senator Sherrod Brown\, and their rescue dogs\, Franklin and Walter. They have four children and seven grandchildren. \n\nClarke is the host of the podcast "Chatter on Books." A longtime Washington hand\, her career includes a stint as Assistant Secretary of Defense for Public Affairs. She is a regular on The Tony Kornheiser Show and author of "Lisptick on a Pig" and "A Survivor's Guide to Washington." She also serves on the Senior Advisory Committee of the Harvard Kennedy School's Institute of Politics. \n\nBooks will be for sale through Granville's independent bookstore\, Reader's Garden. Orders can be placed via Instagram (readersgardenohio) or by contacting readersgardenohio@gmail.com\, for delivery to campus or store pickup in Granville.
X-ALT-DESC;FMTTYPE=text/html:<p><span style="color:rgb(0\, 0\, 0)\; font-family:arial\; font-size:11pt">Denison University&#39\;s Beck Series and Narrative Journalism present &ldquo\;Welcome Beck&rdquo\; Thursdays with Connie Schultz and Torie Clarke in conversation.&nbsp\;Register to receive the Zoom link for our &ldquo\;Welcome Beck&rdquo\; Thursdays events\, the virtual reading series of Denison University\, highlighting the best in fiction\, poetry\, journalism\, and scholarship at&nbsp\;</span><a href="http://bit.ly/beck-events" style="text-decoration-line: none\;"><span style="color:rgb(17\, 85\, 204)\; font-family:arial\; font-size:11pt">bit.ly/beck-events</span></a><span style="color:rgb(34\, 34\, 34)\; font-family:arial\; font-size:11pt">.&nbsp\;</span><span style="color:rgb(0\, 0\, 0)\; font-family:arial\; font-size:11pt">&nbsp\;&nbsp\;</span><br />\n<br />\n<span style="color:rgb(0\, 0\, 0)\; font-family:arial\; font-size:11pt">Schultz is a Pulitzer Prize-winning writer and professional-in-residence in the journalism school at Kent State University. She is the author of two memoirs\, &ldquo\;Life Happens&rdquo\; and &ldquo\;&hellip\;And His Lovely Wife\,&rdquo\; as well as a novel\, &ldquo\;The Daughters of Erietown.&rdquo\; Schultz lives in Cleveland with her husband\, Senator Sherrod Brown\, and their rescue dogs\, Franklin and Walter. They have four children and seven grandchildren.&nbsp\;</span></p>\n\n<p><span style="color:rgb(0\, 0\, 0)\; font-family:arial\; font-size:11pt">Clarke is the host of the podcast &ldquo\;Chatter on Books.&rdquo\; A longtime Washington hand\, her career includes a stint as Assistant Secretary of Defense for Public Affairs. She is a regular on The Tony Kornheiser Show and author of &ldquo\;Lisptick on a Pig&rdquo\; and &ldquo\;A Survivor&rsquo\;s Guide to Washington.&rdquo\; She also serves on the Senior Advisory Committee of the Harvard Kennedy School&rsquo\;s Institute of Politics.&nbsp\;</span></p>\n\n<p><span style="color:rgb(0\, 0\, 0)\; font-family:arial\; font-size:11pt">Books will be for sale through Granville&rsquo\;s independent bookstore\, Reader&rsquo\;s Garden. Orders can be placed via Instagram (readersgardenohio) or by contacting readersgardenohio@gmail.com\, for delivery to campus or store pickup in Granville.</span></p>\n\n<div>&nbsp\;</div>\n
LOCATION:Virtual
UID:e.180.14606
SEQUENCE:3
DTSTAMP:20260422T044225Z
URL:https://business.granvilleoh.com/events/details/welcome-beck-thursdays-presents-connie-schultz-and-torie-clarke-14606
END:VEVENT

END:VCALENDAR
