BEGIN:VCALENDAR
VERSION:2.0
PRODID:-//ChamberMaster//Event Calendar 2.0//EN
METHOD:PUBLISH
X-PUBLISHED-TTL:P3D
REFRESH-INTERVAL:P3D
CALSCALE:GREGORIAN
BEGIN:VEVENT
DTSTART:20201022T233000Z
DTEND:20201023T003000Z
X-MICROSOFT-CDO-ALLDAYEVENT:FALSE
SUMMARY:‘Welcome Beck’ Thursdays presents Jack Shuler and Peter Grandbois
DESCRIPTION:Denison University's Beck Series and Narrative Journalism present "Welcome Beck" Thursdays\, "Home Series": Jack Shuler and Peter Grandbois. Register to receive the Zoom link for our "Welcome Beck" Thursdays events\, the virtual reading series of Denison University\, highlighting the best in fiction\, poetry\, journalism\, and scholarship at bit.ly/beck-events. \n\nShuler is the author of four books including "This is Ohio." He also co-edited with Michael Croley\, "Midland: Reports from the Flyover." His writing has appeared in The New Republic\, Pacific Standard\, Christian Science Monitor\, and Salon. \n\nGrandbois is the author of twelve books\, the most recent of which is "Everything Has Become Birds." His poems\, stories\, and essays have appeared in over one hundred journals. His plays have been nominated for several New York Innovative Theatre Awards and have been performed in St. Louis\, Columbus\, Los Angeles\, and New York. He is poetry editor at Boulevard magazine. \n\nBooks will be for sale through Granville's independent bookstore\, Reader's Garden. Orders can be placed via Instagram (readersgardenohio) or by contacting readersgardenohio@gmail.com\, for delivery to campus or store pickup in Granville. \n\nThis event series is funded by the Harriet Ewens Beck Endowment\, the Andrew W. Mellon Foundation and a gift by alumna Sue Douthit O'Donnell.
X-ALT-DESC;FMTTYPE=text/html:<p><span style="color:rgb(0\, 0\, 0)\; font-family:arial\; font-size:11pt">Denison University&#39\;s Beck Series and Narrative Journalism present &ldquo\;Welcome Beck&rdquo\; Thursdays\, &ldquo\;Home Series&rdquo\;: Jack Shuler and Peter Grandbois. Register to receive the Zoom link for our &ldquo\;Welcome Beck&rdquo\; Thursdays events\, the virtual reading series of Denison University\, highlighting the best in fiction\, poetry\, journalism\, and scholarship at </span><a href="http://bit.ly/beck-events" style="text-decoration-line: none\;"><span style="color:rgb(17\, 85\, 204)\; font-family:arial\; font-size:11pt">bit.ly/beck-events</span></a><span style="color:rgb(34\, 34\, 34)\; font-family:arial\; font-size:11pt">.&nbsp\;</span></p>\n\n<p><span style="color:rgb(0\, 0\, 0)\; font-family:arial\; font-size:11pt">Shuler is the author of four books including &ldquo\;This is Ohio.&rdquo\; He also co-edited with Michael Croley\, &ldquo\;Midland: Reports from the Flyover.&rdquo\; His writing has appeared in The New Republic\, Pacific Standard\, Christian Science Monitor\, and Salon.&nbsp\;</span></p>\n\n<p><span style="color:rgb(0\, 0\, 0)\; font-family:arial\; font-size:11pt">Grandbois is the author of twelve books\, the most recent of which is &ldquo\;Everything Has Become Birds.&rdquo\; His poems\, stories\, and essays have appeared in over one hundred journals. His plays have been nominated for several New York Innovative Theatre Awards and have been performed in St. Louis\, Columbus\, Los Angeles\, and New York. He is poetry editor at Boulevard magazine.&nbsp\;</span></p>\n\n<p><span style="color:rgb(0\, 0\, 0)\; font-family:arial\; font-size:11pt">Books will be for sale through Granville&rsquo\;s independent bookstore\, Reader&rsquo\;s Garden. Orders can be placed via Instagram (readersgardenohio) or by contacting readersgardenohio@gmail.com\, for delivery to campus or store pickup in Granville.&nbsp\;</span></p>\n\n<p><span style="color:rgb(0\, 0\, 0)\; font-family:arial\; font-size:11pt">This event series is funded by the Harriet Ewens Beck Endowment\, the Andrew W. Mellon Foundation and a gift by alumna Sue Douthit O&rsquo\;Donnell.&nbsp\;</span></p>\n\n<div>&nbsp\;</div>\n
LOCATION:Virtual
UID:e.180.14607
SEQUENCE:3
DTSTAMP:20260422T055838Z
URL:https://business.granvilleoh.com/events/details/welcome-beck-thursdays-presents-jack-shuler-and-peter-grandbois-14607
END:VEVENT

END:VCALENDAR
