BEGIN:VCALENDAR
VERSION:2.0
PRODID:-//ChamberMaster//Event Calendar 2.0//EN
METHOD:PUBLISH
X-PUBLISHED-TTL:P3D
REFRESH-INTERVAL:P3D
CALSCALE:GREGORIAN
BEGIN:VEVENT
DTSTART:20201106T003000Z
DTEND:20201106T013000Z
X-MICROSOFT-CDO-ALLDAYEVENT:FALSE
SUMMARY:‘Welcome Beck’ Thursdays presents Luke Lorentzen
DESCRIPTION:Denison University's Beck Series and Narrative Journalism welcome Documentarian-in-Residence Luke Lorentzen presenting "Refining Your Story" at the "Welcome Beck" Thursdays series. Register to receive the Zoom link for our "Welcome Beck" Thursdays events\, the virtual reading series of Denison University\, highlighting the best in fiction\, poetry\, journalism\, and scholarship at bit.ly/beck-events. \n\nExperimenting with the ways in which non-fiction stories are told\, filmmaker Lorentzen takes viewers into hidden worlds to meet otherwise overlooked\, hardworking people. His award-winning film\, "Midnight Family\," tells the story of a family-run ambulance business in Mexico City. Lorentzen's work as a director and cinematographer includes one of Netflix's most watched original series\, "Last Chance U\," which has been nominated for an Emmy and Critics Choice Award.\n\nThis event series is funded by the Harriet Ewens Beck Endowment\, the Andrew W. Mellon Foundation and a gift by alumna Sue Douthit O'Donnell.
X-ALT-DESC;FMTTYPE=text/html:<p><span style="color:rgb(0\, 0\, 0)\; font-family:arial\; font-size:11pt">Denison University&#39\;s Beck Series and Narrative Journalism welcome Documentarian-in-Residence Luke Lorentzen presenting &ldquo\;Refining Your Story&rdquo\; at the &ldquo\;Welcome Beck&rdquo\; Thursdays series. Register to receive the Zoom link for our &ldquo\;Welcome Beck&rdquo\; Thursdays events\, the virtual reading series of Denison University\, highlighting the best in fiction\, poetry\, journalism\, and scholarship at </span><a href="http://bit.ly/beck-events" style="text-decoration-line: none\;"><span style="color:rgb(17\, 85\, 204)\; font-family:arial\; font-size:11pt">bit.ly/beck-events</span></a><span style="color:rgb(34\, 34\, 34)\; font-family:arial\; font-size:11pt">.&nbsp\;</span></p>\n\n<p><span style="color:rgb(0\, 0\, 0)\; font-family:arial\; font-size:11pt">Experimenting with the ways in which non-fiction stories are told\, filmmaker Lorentzen takes viewers into hidden worlds to meet otherwise overlooked\, hardworking people. His award-winning film\, &ldquo\;Midnight Family\,&rdquo\; tells the story of a family-run ambulance business in Mexico City. Lorentzen&rsquo\;s work as a director and cinematographer includes one of Netflix&rsquo\;s most watched original series\, &ldquo\;Last Chance U\,&rdquo\; which has been nominated for an Emmy and Critics Choice Award.</span></p>\n\n<p><span style="color:rgb(34\, 34\, 34)\; font-family:arial\; font-size:11pt">This event series is funded by the Harriet Ewens Beck Endowment\, the Andrew W. Mellon Foundation and a gift by alumna Sue Douthit O&#39\;Donnell.&nbsp\;</span></p>\n\n<div>&nbsp\;</div>\n\n<div>&nbsp\;</div>\n
LOCATION:Virtual
UID:e.180.14609
SEQUENCE:3
DTSTAMP:20260422T033207Z
URL:https://business.granvilleoh.com/events/details/welcome-beck-thursdays-presents-luke-lorentzen-14609
END:VEVENT

END:VCALENDAR
