BEGIN:VCALENDAR
VERSION:2.0
PRODID:-//ChamberMaster//Event Calendar 2.0//EN
METHOD:PUBLISH
X-PUBLISHED-TTL:P3D
REFRESH-INTERVAL:P3D
CALSCALE:GREGORIAN
BEGIN:VEVENT
DTSTART:20200128T210000Z
DTEND:20200128T220000Z
X-MICROSOFT-CDO-ALLDAYEVENT:FALSE
SUMMARY:'What Genealogies Reveal: Slavery\, Gender\, and the Origins of American Gynecology'
DESCRIPTION:Denison University welcomes The Linda and Charles Wilson Professor in the History of Medicine and the Director of the Humanities in Medicine Program at the University of Nebraska-Lincoln Deirdre Cooper Owens\, presenting a talk\, "What Genealogies Reveal: Slavery\, Gender\, and the Origins of American Gynecology."\nCooper Owens book\, "Medical Bondage: Race\, Gender and the Origins of American Gynecology\," traces the relationship between slavery and women's professional medicine in early America\, and won the Organization of American Historian's Darlene Clark Hine Award. She is currently working on a book that examines mental illness during the era of slavery as well as a popular biography of Harriet Tubman that examines her through the lens of disability. A popular public speaker\, Cooper Owens has lectured domestically and abroad to diverse audiences. She has published essays\, book chapters\, and popular blog pieces on a number of issues that concern African American experiences. She has also made a number of appearances on national media outlets as an expert on issues of race\, medicine\, and U.S. slavery.\n\nCooper Owens is one of two Black women in the United States leading a health humanities program. The recipient of several prestigious honors including the University of Virginia's Carter G. Woodson Postdoctoral Fellowship and the American College of Obstetrics and Gynecology Fellowship in Washington\, D.C.\, she is a graduate of two historically black colleges and universities\, Bennett College and Clark Atlanta University. Her dissertation won the University of California\, Los Angeles's Mary Wollstonecraft Dissertation Award for best women's history project.
X-ALT-DESC;FMTTYPE=text/html:<span style="background-color:transparent\; color:rgb(0\, 0\, 0)\; font-family:arial\; font-size:11pt">Denison University welcomes The Linda and Charles Wilson Professor in the History of Medicine and the Director of the Humanities in Medicine Program at the University of Nebraska-Lincoln Deirdre Cooper Owens\, presenting a talk\, &quot\;What Genealogies Reveal: Slavery\, Gender\, and the Origins of American Gynecology.&quot\;</span>\n<p><span style="background-color:transparent\; color:rgb(0\, 0\, 0)\; font-family:arial\; font-size:11pt">Cooper Owens book\, &quot\;Medical Bondage: Race\, Gender and the Origins of American Gynecology\,&quot\; traces the relationship between slavery and women&#39\;s professional medicine in early America\, and won the Organization of American Historian&#39\;s Darlene Clark Hine Award. She is currently working on a book that examines mental illness during the era of slavery as well as a popular biography of Harriet Tubman that examines her through the lens of disability. A popular public speaker\, Cooper Owens has lectured domestically and abroad to diverse audiences. She has published essays\, book chapters\, and popular blog pieces on a number of issues that concern African American experiences. She has also made a number of appearances on national media outlets as an expert on issues of race\, medicine\, and U.S. slavery.</span></p>\n\n<p><span style="background-color:transparent\; color:rgb(0\, 0\, 0)\; font-family:arial\; font-size:11pt">Cooper Owens is one of two Black women in the United States leading a health humanities program. The recipient of several prestigious honors including the University of Virginia&#39\;s Carter G. Woodson Postdoctoral Fellowship and the American College of Obstetrics and Gynecology Fellowship in Washington\, D.C.\, she is a graduate of two historically black colleges and universities\, Bennett College and Clark Atlanta University. Her dissertation won the University of California\, Los Angeles&#39\;s Mary Wollstonecraft Dissertation Award for best women&#39\;s history project.</span></p>\n\n<div>&nbsp\;</div>\n
LOCATION:Denison University Burton D. Morgan Center in Room 115 150 Ridge Road
UID:e.180.14034
SEQUENCE:3
DTSTAMP:20260422T171637Z
URL:https://business.granvilleoh.com/events/details/what-genealogies-reveal-slavery-gender-and-the-origins-of-american-gynecology-14034
END:VEVENT

END:VCALENDAR
