BEGIN:VCALENDAR
VERSION:2.0
PRODID:-//ChamberMaster//Event Calendar 2.0//EN
METHOD:PUBLISH
X-PUBLISHED-TTL:P3D
REFRESH-INTERVAL:P3D
CALSCALE:GREGORIAN
BEGIN:VEVENT
DTSTART:20211117T000000Z
DTEND:20211117T010000Z
X-MICROSOFT-CDO-ALLDAYEVENT:FALSE
SUMMARY:Wind Ensemble Concert: 'Variations on America'
DESCRIPTION:The Department of Music welcomes the Denison University Wind Ensemble\, under the direction of Christopher Westover-Mu oz\, presenting "Variations on America\," a musical consideration of our country from the perspective of those pushed to the margins. From the coal mines of eastern Kentucky to the indigenous lands of the Dakota and Ojibwe people and Stonewall\, the program asks Woody Guthrie's infamous question\, "Is this land made for you and me?"
X-ALT-DESC;FMTTYPE=text/html:<p><span style="color:rgb(34\, 34\, 34)\; font-family:arial\,helvetica\,sans-serif\; font-size:small">The Department of Music welcomes the Denison University Wind Ensemble\, under the direction of Christopher Westover-Mu&ntilde\;oz\, presenting &ldquo\;Variations on America\,&rdquo\; a musical consideration of our country from the perspective of those pushed to the margins. From the coal mines of eastern Kentucky to the indigenous lands of the Dakota and Ojibwe people and Stonewall\, the program asks Woody Guthrie&rsquo\;s infamous question\, &ldquo\;Is this land made for you and me?&rdquo\;</span></p>\n\n<div>&nbsp\;</div>\n
LOCATION:Michael D. Eisner Center for the Performing Arts - Sharon Martin Hall 240 W Broadway Granville
UID:e.180.16118
SEQUENCE:3
DTSTAMP:20260421T111629Z
URL:https://business.granvilleoh.com/events/details/wind-ensemble-concert-variations-on-america-16118
END:VEVENT

END:VCALENDAR
