BEGIN:VCALENDAR
VERSION:2.0
PRODID:-//ChamberMaster//Event Calendar 2.0//EN
METHOD:PUBLISH
X-PUBLISHED-TTL:P3D
REFRESH-INTERVAL:P3D
CALSCALE:GREGORIAN
BEGIN:VEVENT
DTSTART:20200312T230000Z
DTEND:20200313T003000Z
X-MICROSOFT-CDO-ALLDAYEVENT:FALSE
SUMMARY:World Insights: America: Love It/Hate It\, How the World Sees the United States
DESCRIPTION:For centuries\, people from all over the world have been fascinated by America and in particular the United States. Sometimes their vision of the "New World" is idealistic and sometimes it's distrustful. This talk will examine some of the possible reasons for this love-hate relationship\, and question whether they still apply today. Mort Guiney is a Professor of French and Literature at Kenyon College. For most of his life\, he has been interested in the complicated and contradictory ways in which American society is perceived outside our borders. Together with a colleague in the Philosophy Department\, Juan DePascuale\, he has developed a class at Kenyon titled "Visions of America"\, which serves as the inspiration for today's presentation.
X-ALT-DESC;FMTTYPE=text/html:For centuries\, people from all over the world have been fascinated by America and in particular the United States. Sometimes their vision of the &quot\;New World&quot\; is idealistic and sometimes it&#39\;s distrustful. This talk will examine some of the possible reasons for this love-hate relationship\, and question whether they still apply today. Mort Guiney is a Professor of French and Literature at Kenyon College. For most of his life\, he has been interested in the complicated and contradictory ways in which American society is perceived outside our borders. Together with a colleague in the Philosophy Department\, Juan DePascuale\, he has developed a class at Kenyon titled &quot\;Visions of America&quot\;\, which serves as the inspiration for today&#39\;s presentation.
LOCATION:Granville Public Library
UID:e.180.14345
SEQUENCE:3
DTSTAMP:20260422T143606Z
URL:https://business.granvilleoh.com/events/details/world-insights-america-love-it-hate-it-how-the-world-sees-the-united-states-14345
END:VEVENT

END:VCALENDAR
