BEGIN:VCALENDAR
VERSION:2.0
PRODID:-//ChamberMaster//Event Calendar 2.0//EN
METHOD:PUBLISH
X-PUBLISHED-TTL:P3D
REFRESH-INTERVAL:P3D
CALSCALE:GREGORIAN
BEGIN:VEVENT
DTSTART:20210625T170000Z
DTEND:20210625T174500Z
X-MICROSOFT-CDO-ALLDAYEVENT:FALSE
SUMMARY:Yasu Ishida: Japanese Magical Journey
DESCRIPTION:Get ready for folding fun as magic story artist Yasu Ishida incorporates Japanese folktales with origami and magic tricks in this storytelling show. Rising Grades K to 6. Register to receive Zoom login the day of the program.
X-ALT-DESC;FMTTYPE=text/html:Get ready for folding fun as magic story artist Yasu Ishida incorporates Japanese folktales with origami and magic tricks in this storytelling show. Rising Grades K to 6. Register to receive Zoom login the day of the program.
LOCATION:Granville Public Library
UID:e.180.14821
SEQUENCE:3
DTSTAMP:20260421T191414Z
URL:https://business.granvilleoh.com/events/details/yasu-ishida-japanese-magical-journey-14821
END:VEVENT

END:VCALENDAR
