BEGIN:VCALENDAR
VERSION:2.0
PRODID:-//ChamberMaster//Event Calendar 2.0//EN
METHOD:PUBLISH
X-PUBLISHED-TTL:P3D
REFRESH-INTERVAL:P3D
CALSCALE:GREGORIAN
BEGIN:VEVENT
DTSTART:20210904T143000Z
DTEND:20210904T150000Z
X-MICROSOFT-CDO-ALLDAYEVENT:FALSE
SUMMARY:Yoga with Ms. Abbie
DESCRIPTION:This fun class is designed with mini yogis in mind. Kids will playfully develop flexibility\, visual imagery\, relaxation techniques\, positive thinking\, and social skills while practicing simple yoga poses\, playing yoga games\, and storytelling. Please bring your own mat or blanket and arrive a few minutes before the program begins to set up. Grades K to 3 Registration required. Limited to 15 participants. Children from the same household must be registered separately. Robbins Hunter Museum. behind the historic house in the Garden Folly. Cancelled with rain. Register at GranvilleLibrary.org/calendar/month
X-ALT-DESC;FMTTYPE=text/html:This fun class is designed with mini yogis in mind. Kids will playfully develop flexibility\, visual imagery\, relaxation techniques\, positive thinking\, and social skills while practicing simple yoga poses\, playing yoga games\, and storytelling. Please bring your own mat or blanket and arrive a few minutes before the program begins to set up. Grades K to 3 Registration required. Limited to 15 participants. Children from the same household must be registered separately. Robbins Hunter Museum. behind the historic house in the Garden Folly. Cancelled with rain. Register at GranvilleLibrary.org/calendar/month
LOCATION:Robbins Hunter Museum Garden Folly
UID:e.180.16047
SEQUENCE:3
DTSTAMP:20260421T140124Z
URL:https://business.granvilleoh.com/events/details/yoga-with-ms-abbie-16047
END:VEVENT

END:VCALENDAR
