BEGIN:VCALENDAR
VERSION:2.0
PRODID:-//ChamberMaster//Event Calendar 2.0//EN
METHOD:PUBLISH
X-PUBLISHED-TTL:P3D
REFRESH-INTERVAL:P3D
CALSCALE:GREGORIAN
BEGIN:VEVENT
DTSTART:20211019T203000Z
DTEND:20211019T211500Z
X-MICROSOFT-CDO-ALLDAYEVENT:FALSE
SUMMARY:Zombie Paint-a-Long on Zoom
DESCRIPTION:Join us for a portrait-of-a-dead tree paint-along. Registrants will be notified when all necessary supplies are available for pick-up. Grades K to 6 younger participants may need adult assistance. We ask that an adult attend programs with children in Grades 3 and under. Register at GranvilleLibrary.org/calendar/month
X-ALT-DESC;FMTTYPE=text/html:Join us for a portrait-of-a-dead tree paint-along. Registrants will be notified when all necessary supplies are available for pick-up. Grades K to 6&mdash\;younger participants may need adult assistance. We ask that an adult attend programs with children in Grades 3 and under. Register at GranvilleLibrary.org/calendar/month
LOCATION:Granville Public Library via Zoom
UID:e.180.16092
SEQUENCE:3
DTSTAMP:20260421T125340Z
URL:https://business.granvilleoh.com/events/details/zombie-paint-a-long-on-zoom-16092
END:VEVENT

END:VCALENDAR
